BEGIN:VCALENDAR
VERSION:2.0
PRODID:-//Ann Davis Transition Society - ECPv6.15.20//NONSGML v1.0//EN
CALSCALE:GREGORIAN
METHOD:PUBLISH
X-WR-CALNAME:Ann Davis Transition Society
X-ORIGINAL-URL:https://anndavis.org
X-WR-CALDESC:Events for Ann Davis Transition Society
REFRESH-INTERVAL;VALUE=DURATION:PT1H
X-Robots-Tag:noindex
X-PUBLISHED-TTL:PT1H
BEGIN:VTIMEZONE
TZID:America/Vancouver
BEGIN:DAYLIGHT
TZOFFSETFROM:-0800
TZOFFSETTO:-0700
TZNAME:PDT
DTSTART:20230312T100000
END:DAYLIGHT
BEGIN:STANDARD
TZOFFSETFROM:-0700
TZOFFSETTO:-0800
TZNAME:PST
DTSTART:20231105T090000
END:STANDARD
BEGIN:DAYLIGHT
TZOFFSETFROM:-0800
TZOFFSETTO:-0700
TZNAME:PDT
DTSTART:20240310T100000
END:DAYLIGHT
BEGIN:STANDARD
TZOFFSETFROM:-0700
TZOFFSETTO:-0800
TZNAME:PST
DTSTART:20241103T090000
END:STANDARD
BEGIN:DAYLIGHT
TZOFFSETFROM:-0800
TZOFFSETTO:-0700
TZNAME:PDT
DTSTART:20250309T100000
END:DAYLIGHT
BEGIN:STANDARD
TZOFFSETFROM:-0700
TZOFFSETTO:-0800
TZNAME:PST
DTSTART:20251102T090000
END:STANDARD
END:VTIMEZONE
BEGIN:VEVENT
DTSTART;TZID=America/Vancouver:20241202T180000
DTEND;TZID=America/Vancouver:20241202T200000
DTSTAMP:20260420T070908
CREATED:20241022T035505Z
LAST-MODIFIED:20241022T035617Z
UID:4669-1733162400-1733169600@anndavis.org
SUMMARY:Men's Self-Management Of Anger
DESCRIPTION:
URL:https://anndavis.org/event/mens-self-management-of-anger-2/2024-12-02/
CATEGORIES:Events
END:VEVENT
BEGIN:VEVENT
DTSTART;TZID=America/Vancouver:20241206T120000
DTEND;TZID=America/Vancouver:20241206T140000
DTSTAMP:20260420T070908
CREATED:20241022T035101Z
LAST-MODIFIED:20241022T035101Z
UID:4660-1733486400-1733493600@anndavis.org
SUMMARY:Men's Insight Group
DESCRIPTION:
URL:https://anndavis.org/event/mens-insight-group-2/2024-12-06/
LOCATION:Virtual
CATEGORIES:Events
END:VEVENT
BEGIN:VEVENT
DTSTART;TZID=America/Vancouver:20241207T100000
DTEND;TZID=America/Vancouver:20241207T230000
DTSTAMP:20260420T070908
CREATED:20241022T035730Z
LAST-MODIFIED:20241022T035736Z
UID:4680-1733565600-1733612400@anndavis.org
SUMMARY:Men's Support Group
DESCRIPTION:
URL:https://anndavis.org/event/mens-support-group/2024-12-07/
LOCATION:Virtual
CATEGORIES:Events
END:VEVENT
BEGIN:VEVENT
DTSTART;TZID=America/Vancouver:20241207T110000
DTEND;TZID=America/Vancouver:20241207T120000
DTSTAMP:20260420T070908
CREATED:20241022T035826Z
LAST-MODIFIED:20241022T035826Z
UID:4688-1733569200-1733572800@anndavis.org
SUMMARY:Women's Support Group
DESCRIPTION:
URL:https://anndavis.org/event/womens-support-group/2024-12-07/
CATEGORIES:Events
END:VEVENT
BEGIN:VEVENT
DTSTART;TZID=America/Vancouver:20241209T180000
DTEND;TZID=America/Vancouver:20241209T200000
DTSTAMP:20260420T070908
CREATED:20241022T035505Z
LAST-MODIFIED:20241022T035617Z
UID:4670-1733767200-1733774400@anndavis.org
SUMMARY:Men's Self-Management Of Anger
DESCRIPTION:
URL:https://anndavis.org/event/mens-self-management-of-anger-2/2024-12-09/
CATEGORIES:Events
END:VEVENT
BEGIN:VEVENT
DTSTART;TZID=America/Vancouver:20241213T120000
DTEND;TZID=America/Vancouver:20241213T140000
DTSTAMP:20260420T070908
CREATED:20241022T035101Z
LAST-MODIFIED:20241022T035101Z
UID:4661-1734091200-1734098400@anndavis.org
SUMMARY:Men's Insight Group
DESCRIPTION:
URL:https://anndavis.org/event/mens-insight-group-2/2024-12-13/
LOCATION:Virtual
CATEGORIES:Events
END:VEVENT
BEGIN:VEVENT
DTSTART;TZID=America/Vancouver:20241216T180000
DTEND;TZID=America/Vancouver:20241216T200000
DTSTAMP:20260420T070908
CREATED:20241022T035505Z
LAST-MODIFIED:20241022T035617Z
UID:4671-1734372000-1734379200@anndavis.org
SUMMARY:Men's Self-Management Of Anger
DESCRIPTION:
URL:https://anndavis.org/event/mens-self-management-of-anger-2/2024-12-16/
CATEGORIES:Events
END:VEVENT
BEGIN:VEVENT
DTSTART;TZID=America/Vancouver:20241220T120000
DTEND;TZID=America/Vancouver:20241220T140000
DTSTAMP:20260420T070908
CREATED:20241022T035101Z
LAST-MODIFIED:20241022T035101Z
UID:4662-1734696000-1734703200@anndavis.org
SUMMARY:Men's Insight Group
DESCRIPTION:
URL:https://anndavis.org/event/mens-insight-group-2/2024-12-20/
LOCATION:Virtual
CATEGORIES:Events
END:VEVENT
BEGIN:VEVENT
DTSTART;TZID=America/Vancouver:20241221T100000
DTEND;TZID=America/Vancouver:20241221T230000
DTSTAMP:20260420T070908
CREATED:20241022T035730Z
LAST-MODIFIED:20241022T035737Z
UID:4681-1734775200-1734822000@anndavis.org
SUMMARY:Men's Support Group
DESCRIPTION:
URL:https://anndavis.org/event/mens-support-group/2024-12-21/
LOCATION:Virtual
CATEGORIES:Events
END:VEVENT
BEGIN:VEVENT
DTSTART;TZID=America/Vancouver:20241221T110000
DTEND;TZID=America/Vancouver:20241221T120000
DTSTAMP:20260420T070908
CREATED:20241022T035826Z
LAST-MODIFIED:20241022T035826Z
UID:4689-1734778800-1734782400@anndavis.org
SUMMARY:Women's Support Group
DESCRIPTION:
URL:https://anndavis.org/event/womens-support-group/2024-12-21/
CATEGORIES:Events
END:VEVENT
END:VCALENDAR