BEGIN:VCALENDAR
VERSION:2.0
PRODID:-//Ann Davis Transition Society - ECPv6.15.20//NONSGML v1.0//EN
CALSCALE:GREGORIAN
METHOD:PUBLISH
X-ORIGINAL-URL:https://anndavis.org
X-WR-CALDESC:Events for Ann Davis Transition Society
REFRESH-INTERVAL;VALUE=DURATION:PT1H
X-Robots-Tag:noindex
X-PUBLISHED-TTL:PT1H
BEGIN:VTIMEZONE
TZID:America/Vancouver
BEGIN:DAYLIGHT
TZOFFSETFROM:-0800
TZOFFSETTO:-0700
TZNAME:PDT
DTSTART:20220313T100000
END:DAYLIGHT
BEGIN:STANDARD
TZOFFSETFROM:-0700
TZOFFSETTO:-0800
TZNAME:PST
DTSTART:20221106T090000
END:STANDARD
BEGIN:DAYLIGHT
TZOFFSETFROM:-0800
TZOFFSETTO:-0700
TZNAME:PDT
DTSTART:20230312T100000
END:DAYLIGHT
BEGIN:STANDARD
TZOFFSETFROM:-0700
TZOFFSETTO:-0800
TZNAME:PST
DTSTART:20231105T090000
END:STANDARD
BEGIN:DAYLIGHT
TZOFFSETFROM:-0800
TZOFFSETTO:-0700
TZNAME:PDT
DTSTART:20240310T100000
END:DAYLIGHT
BEGIN:STANDARD
TZOFFSETFROM:-0700
TZOFFSETTO:-0800
TZNAME:PST
DTSTART:20241103T090000
END:STANDARD
END:VTIMEZONE
BEGIN:VEVENT
DTSTART;TZID=America/Vancouver:20230613T120000
DTEND;TZID=America/Vancouver:20230613T140000
DTSTAMP:20260421T064101
CREATED:20220809T050833Z
LAST-MODIFIED:20230630T151808Z
UID:3356-1686657600-1686664800@anndavis.org
SUMMARY:Connections
DESCRIPTION:
URL:https://anndavis.org/event/connections/2023-06-13/
CATEGORIES:Women Groups
END:VEVENT
BEGIN:VEVENT
DTSTART;TZID=America/Vancouver:20230614T063000
DTEND;TZID=America/Vancouver:20230614T090000
DTSTAMP:20260421T064101
CREATED:20230515T173828Z
LAST-MODIFIED:20230515T173828Z
UID:3666-1686724200-1686733200@anndavis.org
SUMMARY:Ann Davis Drive Thru Breakfast
DESCRIPTION:
URL:https://anndavis.org/event/ann-davis-drive-thru-breakfast/
LOCATION:Elements Casino\, 8180 Young Rd\, Chilliwack\, British Columbia\, V2P 4N9\, Canada
CATEGORIES:Events
GEO:49.1514765;-121.9494087
X-APPLE-STRUCTURED-LOCATION;VALUE=URI;X-ADDRESS=Elements Casino 8180 Young Rd Chilliwack British Columbia V2P 4N9 Canada;X-APPLE-RADIUS=500;X-TITLE=8180 Young Rd:geo:-121.9494087,49.1514765
END:VEVENT
END:VCALENDAR