BEGIN:VCALENDAR
VERSION:2.0
PRODID:-//Ann Davis Transition Society - ECPv6.15.20//NONSGML v1.0//EN
CALSCALE:GREGORIAN
METHOD:PUBLISH
X-WR-CALNAME:Ann Davis Transition Society
X-ORIGINAL-URL:https://anndavis.org
X-WR-CALDESC:Events for Ann Davis Transition Society
REFRESH-INTERVAL;VALUE=DURATION:PT1H
X-Robots-Tag:noindex
X-PUBLISHED-TTL:PT1H
BEGIN:VTIMEZONE
TZID:America/Vancouver
BEGIN:DAYLIGHT
TZOFFSETFROM:-0800
TZOFFSETTO:-0700
TZNAME:PDT
DTSTART:20210314T100000
END:DAYLIGHT
BEGIN:STANDARD
TZOFFSETFROM:-0700
TZOFFSETTO:-0800
TZNAME:PST
DTSTART:20211107T090000
END:STANDARD
BEGIN:DAYLIGHT
TZOFFSETFROM:-0800
TZOFFSETTO:-0700
TZNAME:PDT
DTSTART:20220313T100000
END:DAYLIGHT
BEGIN:STANDARD
TZOFFSETFROM:-0700
TZOFFSETTO:-0800
TZNAME:PST
DTSTART:20221106T090000
END:STANDARD
BEGIN:DAYLIGHT
TZOFFSETFROM:-0800
TZOFFSETTO:-0700
TZNAME:PDT
DTSTART:20230312T100000
END:DAYLIGHT
BEGIN:STANDARD
TZOFFSETFROM:-0700
TZOFFSETTO:-0800
TZNAME:PST
DTSTART:20231105T090000
END:STANDARD
END:VTIMEZONE
BEGIN:VEVENT
DTSTART;VALUE=DATE:20220808
DTEND;VALUE=DATE:20220813
DTSTAMP:20260421T223159
CREATED:20220707T154115Z
LAST-MODIFIED:20220707T154115Z
UID:3251-1659916800-1660348799@anndavis.org
SUMMARY:STAR Summer Youth Program
DESCRIPTION:The STAR (Summer Training and Recreation) Program is an opportunity for youth aged 13-17\, that will introduce them to the work-skills and life-skills necessary to successfully obtain and keep employment. \nThe program offers the following: job skills\, relationship skills\, new friends\, references\, resume and cover letter from the socially-distanced comfort of your own home. \nPlease call our administration office for more information at 604-792-2760. \n<a href=”https://anndavis.org/programs-groups/”>Application and Flyer</a>
URL:https://anndavis.org/event/star-summer-youth-program-3/
CATEGORIES:Child, Youth and Parenting Groups
END:VEVENT
END:VCALENDAR