BEGIN:VCALENDAR
VERSION:2.0
PRODID:-//Ann Davis Transition Society - ECPv6.15.20//NONSGML v1.0//EN
CALSCALE:GREGORIAN
METHOD:PUBLISH
X-WR-CALNAME:Ann Davis Transition Society
X-ORIGINAL-URL:https://anndavis.org
X-WR-CALDESC:Events for Ann Davis Transition Society
REFRESH-INTERVAL;VALUE=DURATION:PT1H
X-Robots-Tag:noindex
X-PUBLISHED-TTL:PT1H
BEGIN:VTIMEZONE
TZID:America/Vancouver
BEGIN:DAYLIGHT
TZOFFSETFROM:-0800
TZOFFSETTO:-0700
TZNAME:PDT
DTSTART:20220313T100000
END:DAYLIGHT
BEGIN:STANDARD
TZOFFSETFROM:-0700
TZOFFSETTO:-0800
TZNAME:PST
DTSTART:20221106T090000
END:STANDARD
BEGIN:DAYLIGHT
TZOFFSETFROM:-0800
TZOFFSETTO:-0700
TZNAME:PDT
DTSTART:20230312T100000
END:DAYLIGHT
BEGIN:STANDARD
TZOFFSETFROM:-0700
TZOFFSETTO:-0800
TZNAME:PST
DTSTART:20231105T090000
END:STANDARD
BEGIN:DAYLIGHT
TZOFFSETFROM:-0800
TZOFFSETTO:-0700
TZNAME:PDT
DTSTART:20240310T100000
END:DAYLIGHT
BEGIN:STANDARD
TZOFFSETFROM:-0700
TZOFFSETTO:-0800
TZNAME:PST
DTSTART:20241103T090000
END:STANDARD
BEGIN:DAYLIGHT
TZOFFSETFROM:-0800
TZOFFSETTO:-0700
TZNAME:PDT
DTSTART:20250309T100000
END:DAYLIGHT
BEGIN:STANDARD
TZOFFSETFROM:-0700
TZOFFSETTO:-0800
TZNAME:PST
DTSTART:20251102T090000
END:STANDARD
END:VTIMEZONE
BEGIN:VEVENT
DTSTART;TZID=America/Vancouver:20240930T180000
DTEND;TZID=America/Vancouver:20240930T200000
DTSTAMP:20260420T070025
CREATED:20240829T210903Z
LAST-MODIFIED:20240829T211011Z
UID:4444-1727719200-1727726400@anndavis.org
SUMMARY:Men's Self-Management Of Anger (Virtual)
DESCRIPTION:Group Fee – $50 (Bursary opportunities for participants with financial barriers)
URL:https://anndavis.org/event/mens-self-management-of-anger-virtual/2024-09-30/
CATEGORIES:Events
END:VEVENT
BEGIN:VEVENT
DTSTART;TZID=America/Vancouver:20240923T180000
DTEND;TZID=America/Vancouver:20240923T200000
DTSTAMP:20260420T070025
CREATED:20240829T210903Z
LAST-MODIFIED:20240829T211011Z
UID:4443-1727114400-1727121600@anndavis.org
SUMMARY:Men's Self-Management Of Anger (Virtual)
DESCRIPTION:Group Fee – $50 (Bursary opportunities for participants with financial barriers)
URL:https://anndavis.org/event/mens-self-management-of-anger-virtual/2024-09-23/
CATEGORIES:Events
END:VEVENT
BEGIN:VEVENT
DTSTART;TZID=America/Vancouver:20240923T110000
DTEND;TZID=America/Vancouver:20240923T130000
DTSTAMP:20260420T070025
CREATED:20240829T210344Z
LAST-MODIFIED:20240829T210344Z
UID:4456-1727089200-1727096400@anndavis.org
SUMMARY:Men's Self-Management Of Anger (In-Person Group)
DESCRIPTION:Group Fee – $50 (Bursary opportunities for participants with financial barriers)
URL:https://anndavis.org/event/mens-self-management-of-anger-in-person-group/2024-09-23/
CATEGORIES:Events
END:VEVENT
BEGIN:VEVENT
DTSTART;TZID=America/Vancouver:20240916T180000
DTEND;TZID=America/Vancouver:20240916T200000
DTSTAMP:20260420T070025
CREATED:20240829T210903Z
LAST-MODIFIED:20240829T211010Z
UID:4442-1726509600-1726516800@anndavis.org
SUMMARY:Men's Self-Management Of Anger (Virtual)
DESCRIPTION:Group Fee – $50 (Bursary opportunities for participants with financial barriers)
URL:https://anndavis.org/event/mens-self-management-of-anger-virtual/2024-09-16/
CATEGORIES:Events
END:VEVENT
BEGIN:VEVENT
DTSTART;TZID=America/Vancouver:20240916T110000
DTEND;TZID=America/Vancouver:20240916T130000
DTSTAMP:20260420T070025
CREATED:20240829T210344Z
LAST-MODIFIED:20240829T210344Z
UID:4455-1726484400-1726491600@anndavis.org
SUMMARY:Men's Self-Management Of Anger (In-Person Group)
DESCRIPTION:Group Fee – $50 (Bursary opportunities for participants with financial barriers)
URL:https://anndavis.org/event/mens-self-management-of-anger-in-person-group/2024-09-16/
CATEGORIES:Events
END:VEVENT
BEGIN:VEVENT
DTSTART;TZID=America/Vancouver:20240909T180000
DTEND;TZID=America/Vancouver:20240909T200000
DTSTAMP:20260420T070025
CREATED:20240829T210903Z
LAST-MODIFIED:20240829T211010Z
UID:4441-1725904800-1725912000@anndavis.org
SUMMARY:Men's Self-Management Of Anger (Virtual)
DESCRIPTION:Group Fee – $50 (Bursary opportunities for participants with financial barriers)
URL:https://anndavis.org/event/mens-self-management-of-anger-virtual/2024-09-09/
CATEGORIES:Events
END:VEVENT
BEGIN:VEVENT
DTSTART;TZID=America/Vancouver:20240909T110000
DTEND;TZID=America/Vancouver:20240909T130000
DTSTAMP:20260420T070025
CREATED:20240829T210344Z
LAST-MODIFIED:20240829T211143Z
UID:4437-1725879600-1725886800@anndavis.org
SUMMARY:Men's Self-Management Of Anger (In-Person Group)
DESCRIPTION:Group Fee – $50 (Bursary opportunities for participants with financial barriers)
URL:https://anndavis.org/event/mens-self-management-of-anger-in-person-group/2024-09-09/
CATEGORIES:Events
END:VEVENT
BEGIN:VEVENT
DTSTART;TZID=America/Vancouver:20240620T063000
DTEND;TZID=America/Vancouver:20240620T093000
DTSTAMP:20260420T070025
CREATED:20240320T221535Z
LAST-MODIFIED:20240320T221535Z
UID:4235-1718865000-1718875800@anndavis.org
SUMMARY:Drive Thru Breakfast
DESCRIPTION:
URL:https://anndavis.org/event/drive-thru-breakfast/
CATEGORIES:Events
END:VEVENT
BEGIN:VEVENT
DTSTART;TZID=America/Vancouver:20240527T180000
DTEND;TZID=America/Vancouver:20240527T200000
DTSTAMP:20260420T070025
CREATED:20240320T220730Z
LAST-MODIFIED:20240320T220807Z
UID:4219-1716832800-1716840000@anndavis.org
SUMMARY:Men's Anger Management Group (Virtual)
DESCRIPTION:
URL:https://anndavis.org/event/mens-anger-management-group-virtual/2024-05-27/
CATEGORIES:Events
END:VEVENT
BEGIN:VEVENT
DTSTART;VALUE=DATE:20240514
DTEND;VALUE=DATE:20240515
DTSTAMP:20260420T070025
CREATED:20240320T221655Z
LAST-MODIFIED:20240320T221720Z
UID:4237-1715644800-1715731199@anndavis.org
SUMMARY:Conference - UFV
DESCRIPTION:
URL:https://anndavis.org/event/may-14th-conference-ufv/
CATEGORIES:Events
END:VEVENT
BEGIN:VEVENT
DTSTART;TZID=America/Vancouver:20240513T180000
DTEND;TZID=America/Vancouver:20240513T200000
DTSTAMP:20260420T070025
CREATED:20240320T220730Z
LAST-MODIFIED:20240320T220807Z
UID:4218-1715623200-1715630400@anndavis.org
SUMMARY:Men's Anger Management Group (Virtual)
DESCRIPTION:
URL:https://anndavis.org/event/mens-anger-management-group-virtual/2024-05-13/
CATEGORIES:Events
END:VEVENT
BEGIN:VEVENT
DTSTART;TZID=America/Vancouver:20240506T180000
DTEND;TZID=America/Vancouver:20240506T200000
DTSTAMP:20260420T070025
CREATED:20240320T220730Z
LAST-MODIFIED:20240320T220807Z
UID:4217-1715018400-1715025600@anndavis.org
SUMMARY:Men's Anger Management Group (Virtual)
DESCRIPTION:
URL:https://anndavis.org/event/mens-anger-management-group-virtual/2024-05-06/
CATEGORIES:Events
END:VEVENT
BEGIN:VEVENT
DTSTART;TZID=America/Vancouver:20240429T180000
DTEND;TZID=America/Vancouver:20240429T200000
DTSTAMP:20260420T070025
CREATED:20240320T220730Z
LAST-MODIFIED:20240320T220806Z
UID:4216-1714413600-1714420800@anndavis.org
SUMMARY:Men's Anger Management Group (Virtual)
DESCRIPTION:
URL:https://anndavis.org/event/mens-anger-management-group-virtual/2024-04-29/
CATEGORIES:Events
END:VEVENT
BEGIN:VEVENT
DTSTART;TZID=America/Vancouver:20240425T153000
DTEND;TZID=America/Vancouver:20240425T164500
DTSTAMP:20260420T070025
CREATED:20240307T040726Z
LAST-MODIFIED:20240320T221903Z
UID:4155-1714059000-1714063500@anndavis.org
SUMMARY:Male Virtual Youth Group - Self Management of Anger
DESCRIPTION:
URL:https://anndavis.org/event/male-virtual-youth-group-self-management-of-anger/2024-04-25/
CATEGORIES:Events
END:VEVENT
BEGIN:VEVENT
DTSTART;TZID=America/Vancouver:20240424T153000
DTEND;TZID=America/Vancouver:20240424T164500
DTSTAMP:20260420T070025
CREATED:20240307T040404Z
LAST-MODIFIED:20240307T040952Z
UID:4147-1713972600-1713977100@anndavis.org
SUMMARY:Female Virtual Youth Group - Self Management of Anger
DESCRIPTION:
URL:https://anndavis.org/event/female-virtual-youth-group-self-management-of-anger/2024-04-24/
CATEGORIES:Events
END:VEVENT
BEGIN:VEVENT
DTSTART;TZID=America/Vancouver:20240422T180000
DTEND;TZID=America/Vancouver:20240422T200000
DTSTAMP:20260420T070025
CREATED:20240320T220730Z
LAST-MODIFIED:20240320T220806Z
UID:4215-1713808800-1713816000@anndavis.org
SUMMARY:Men's Anger Management Group (Virtual)
DESCRIPTION:
URL:https://anndavis.org/event/mens-anger-management-group-virtual/2024-04-22/
CATEGORIES:Events
END:VEVENT
BEGIN:VEVENT
DTSTART;TZID=America/Vancouver:20240408T180000
DTEND;TZID=America/Vancouver:20240408T200000
DTSTAMP:20260420T070025
CREATED:20240320T220730Z
LAST-MODIFIED:20240320T220806Z
UID:4210-1712599200-1712606400@anndavis.org
SUMMARY:Men's Anger Management Group (Virtual)
DESCRIPTION:
URL:https://anndavis.org/event/mens-anger-management-group-virtual/2024-04-08/
CATEGORIES:Events
END:VEVENT
BEGIN:VEVENT
DTSTART;TZID=America/Vancouver:20240404T153000
DTEND;TZID=America/Vancouver:20240404T164500
DTSTAMP:20260420T070025
CREATED:20240307T040726Z
LAST-MODIFIED:20240320T221903Z
UID:4152-1712244600-1712249100@anndavis.org
SUMMARY:Male Virtual Youth Group - Self Management of Anger
DESCRIPTION:
URL:https://anndavis.org/event/male-virtual-youth-group-self-management-of-anger/2024-04-04/
CATEGORIES:Events
END:VEVENT
BEGIN:VEVENT
DTSTART;TZID=America/Vancouver:20240403T153000
DTEND;TZID=America/Vancouver:20240403T164500
DTSTAMP:20260420T070025
CREATED:20240307T040404Z
LAST-MODIFIED:20240307T040951Z
UID:4144-1712158200-1712162700@anndavis.org
SUMMARY:Female Virtual Youth Group - Self Management of Anger
DESCRIPTION:
URL:https://anndavis.org/event/female-virtual-youth-group-self-management-of-anger/2024-04-03/
CATEGORIES:Events
END:VEVENT
BEGIN:VEVENT
DTSTART;VALUE=DATE:20240308
DTEND;VALUE=DATE:20240309
DTSTAMP:20260420T070025
CREATED:20230920T211055Z
LAST-MODIFIED:20230920T211055Z
UID:3931-1709856000-1709942399@anndavis.org
SUMMARY:International Women’s Day and Fraser Valley Marches for Woman
DESCRIPTION:
URL:https://anndavis.org/event/international-womens-day-and-fraser-valley-marches-for-woman/
CATEGORIES:Events
END:VEVENT
BEGIN:VEVENT
DTSTART;TZID=America/Vancouver:20240117T120000
DTEND;TZID=America/Vancouver:20240117T140000
DTSTAMP:20260420T070025
CREATED:20240113T184403Z
LAST-MODIFIED:20240113T184403Z
UID:4079-1705492800-1705500000@anndavis.org
SUMMARY:Winter Connections Group (Online)
DESCRIPTION:Connections is a group developed to address issues relating to shame and to develop shame resilience. \nThe program is ideal for those struggling with self-esteem\, love and belonging\, authenticity\, the development of empathy\, connection\, power\, and the ability to cultivate a resilient spirit. \nDownload more information here. \n 
URL:https://anndavis.org/event/winter-connections-group-online/
CATEGORIES:Women Groups
END:VEVENT
BEGIN:VEVENT
DTSTART;TZID=America/Vancouver:20240116T120000
DTEND;TZID=America/Vancouver:20240116T140000
DTSTAMP:20260420T070025
CREATED:20220721T151921Z
LAST-MODIFIED:20240113T183210Z
UID:3295-1705406400-1705413600@anndavis.org
SUMMARY:Understanding Abuse Group - Online
DESCRIPTION:The Understanding Abuse group will provide participants with information about the different types of abuse and how they may manifest in relationships. \nWe will discuss the impacts of abuse and the importance of self-compassion. Participants will also learn communication skills and how to set and maintain healthy boundaries with partners\, family and friends. \nDownload more information here. \n 
URL:https://anndavis.org/event/understanding-abuse-group-online/
CATEGORIES:Women Groups
END:VEVENT
BEGIN:VEVENT
DTSTART;VALUE=DATE:20231206
DTEND;VALUE=DATE:20231207
DTSTAMP:20260420T070025
CREATED:20230630T152744Z
LAST-MODIFIED:20230630T152744Z
UID:3727-1701820800-1701907199@anndavis.org
SUMMARY:National Day of Remembrance and Action on Violence Against Women
DESCRIPTION:
URL:https://anndavis.org/event/national-day-of-remembrance-and-action-on-violence-against-women/
CATEGORIES:Events
END:VEVENT
BEGIN:VEVENT
DTSTART;TZID=America/Vancouver:20231201T080000
DTEND;TZID=America/Vancouver:20231201T170000
DTSTAMP:20260420T070025
CREATED:20230630T152715Z
LAST-MODIFIED:20230630T152715Z
UID:3725-1701417600-1701450000@anndavis.org
SUMMARY:Christmas Hampers
DESCRIPTION:
URL:https://anndavis.org/event/christmas-hampers/
CATEGORIES:Events
END:VEVENT
BEGIN:VEVENT
DTSTART;VALUE=DATE:20231201
DTEND;VALUE=DATE:20231202
DTSTAMP:20260420T070025
CREATED:20230920T210759Z
LAST-MODIFIED:20230920T210759Z
UID:3925-1701388800-1701475199@anndavis.org
SUMMARY:Start of Christmas Hamper Program
DESCRIPTION:
URL:https://anndavis.org/event/start-of-christmas-hamper-program/
CATEGORIES:Events
END:VEVENT
BEGIN:VEVENT
DTSTART;TZID=America/Vancouver:20231026T180000
DTEND;TZID=America/Vancouver:20231026T200000
DTSTAMP:20260420T070025
CREATED:20230920T204550Z
LAST-MODIFIED:20230920T205140Z
UID:3884-1698343200-1698350400@anndavis.org
SUMMARY:Men’s Anger Management
DESCRIPTION:(7 sessions) \nThe Self-Management of Anger class is all about learning how to take responsibility for managing your own self and your feelings\, primarily the feeling of anger. You will learn where your anger comes from and how to identify it before it becomes a problem. \nIn fact\, the goal is to be able to learn how to channel anger and use it effectively. \nThis course focuses mainly on anger in relationships and how to improve those relationships. Those relationships could be with a spouse\, a child\, a boss or co-worker\, a friend or a neighbour.
URL:https://anndavis.org/event/mens-anger-management/2023-10-26/
CATEGORIES:Men Groups
END:VEVENT
BEGIN:VEVENT
DTSTART;TZID=America/Vancouver:20231024T120000
DTEND;TZID=America/Vancouver:20231024T133000
DTSTAMP:20260420T070025
CREATED:20230929T193915Z
LAST-MODIFIED:20230929T194007Z
UID:3949-1698148800-1698154200@anndavis.org
SUMMARY:The fall Women’s Self-Management of Anger group ONLINE through Zoom
DESCRIPTION:
URL:https://anndavis.org/event/the-fall-womens-self-management-of-anger-group-online-through-zoom/2023-10-24/
CATEGORIES:Women Groups
END:VEVENT
BEGIN:VEVENT
DTSTART;TZID=America/Vancouver:20231014T110000
DTEND;TZID=America/Vancouver:20231014T140000
DTSTAMP:20260420T070025
CREATED:20230920T210708Z
LAST-MODIFIED:20230920T210708Z
UID:3922-1697281200-1697292000@anndavis.org
SUMMARY:PLN: BBQ
DESCRIPTION:
URL:https://anndavis.org/event/pln-bbq/
LOCATION:Canadian Tire Parking Lot
CATEGORIES:Events
END:VEVENT
BEGIN:VEVENT
DTSTART;TZID=America/Vancouver:20231007T180000
DTEND;TZID=America/Vancouver:20231007T180000
DTSTAMP:20260420T070025
CREATED:20230920T210522Z
LAST-MODIFIED:20230920T210522Z
UID:3920-1696701600-1696701600@anndavis.org
SUMMARY:PLN: Chilliwack Chiefs game
DESCRIPTION:
URL:https://anndavis.org/event/pln-chilliwack-chiefs-game/
CATEGORIES:Events
END:VEVENT
BEGIN:VEVENT
DTSTART;TZID=America/Vancouver:20231006T173000
DTEND;TZID=America/Vancouver:20231006T193000
DTSTAMP:20260420T070025
CREATED:20230920T205530Z
LAST-MODIFIED:20230920T210000Z
UID:3894-1696613400-1696620600@anndavis.org
SUMMARY:Building Healthy Relationships
DESCRIPTION:
URL:https://anndavis.org/event/building-healthy-relationships-2/2023-10-06/
CATEGORIES:Couples
END:VEVENT
END:VCALENDAR