BEGIN:VCALENDAR
VERSION:2.0
PRODID:-//Ann Davis Transition Society - ECPv6.15.20//NONSGML v1.0//EN
CALSCALE:GREGORIAN
METHOD:PUBLISH
X-WR-CALNAME:Ann Davis Transition Society
X-ORIGINAL-URL:https://anndavis.org
X-WR-CALDESC:Events for Ann Davis Transition Society
REFRESH-INTERVAL;VALUE=DURATION:PT1H
X-Robots-Tag:noindex
X-PUBLISHED-TTL:PT1H
BEGIN:VTIMEZONE
TZID:America/Vancouver
BEGIN:DAYLIGHT
TZOFFSETFROM:-0800
TZOFFSETTO:-0700
TZNAME:PDT
DTSTART:20200308T100000
END:DAYLIGHT
BEGIN:STANDARD
TZOFFSETFROM:-0700
TZOFFSETTO:-0800
TZNAME:PST
DTSTART:20201101T090000
END:STANDARD
BEGIN:DAYLIGHT
TZOFFSETFROM:-0800
TZOFFSETTO:-0700
TZNAME:PDT
DTSTART:20210314T100000
END:DAYLIGHT
BEGIN:STANDARD
TZOFFSETFROM:-0700
TZOFFSETTO:-0800
TZNAME:PST
DTSTART:20211107T090000
END:STANDARD
BEGIN:DAYLIGHT
TZOFFSETFROM:-0800
TZOFFSETTO:-0700
TZNAME:PDT
DTSTART:20220313T100000
END:DAYLIGHT
BEGIN:STANDARD
TZOFFSETFROM:-0700
TZOFFSETTO:-0800
TZNAME:PST
DTSTART:20221106T090000
END:STANDARD
END:VTIMEZONE
BEGIN:VEVENT
DTSTART;TZID=America/Vancouver:20210928T180000
DTEND;TZID=America/Vancouver:20210928T200000
DTSTAMP:20260421T094936
CREATED:20211007T230422Z
LAST-MODIFIED:20211007T230422Z
UID:2810-1632852000-1632859200@anndavis.org
SUMMARY:CIB (Children In Between) - Parent Portion - Free
DESCRIPTION:Children In Between is a program designed to teach parents and children the impact of children witnessing relationship conflicts between their parents. The program will teach parents how to support and assist their children as they adapt to changing family relations\, and help children learn how to articulate their needs and feelings to their parent(s). \nThe program also teaches the child ways to tell the parents that they are being put in-between\, as well as to identify areas where this commonly occurs. \nResearch shows that over 60% of children who experience their parents’ separation or divorce have adjustment difficulties and may feel unhappy\, angry\, dissatisfied with life\, depressed\, and deeply lonely\, but most of the damage is caused not by the divorce itself\, but the on-going conflict between the parents. \nThe goal of this program is to empower parents and their children to adopt healthier communication and conflict resolution practices based on mutual respect and understanding. Please note there is a mandatory parent component preceding the children’s portion.
URL:https://anndavis.org/event/cib-children-in-between-parent-portion-free/2021-09-28/
CATEGORIES:Child, Youth and Parenting Groups
END:VEVENT
END:VCALENDAR