BEGIN:VCALENDAR
VERSION:2.0
PRODID:-//Ann Davis Transition Society - ECPv6.15.20//NONSGML v1.0//EN
CALSCALE:GREGORIAN
METHOD:PUBLISH
X-ORIGINAL-URL:https://anndavis.org
X-WR-CALDESC:Events for Ann Davis Transition Society
REFRESH-INTERVAL;VALUE=DURATION:PT1H
X-Robots-Tag:noindex
X-PUBLISHED-TTL:PT1H
BEGIN:VTIMEZONE
TZID:America/Vancouver
BEGIN:DAYLIGHT
TZOFFSETFROM:-0800
TZOFFSETTO:-0700
TZNAME:PDT
DTSTART:20230312T100000
END:DAYLIGHT
BEGIN:STANDARD
TZOFFSETFROM:-0700
TZOFFSETTO:-0800
TZNAME:PST
DTSTART:20231105T090000
END:STANDARD
BEGIN:DAYLIGHT
TZOFFSETFROM:-0800
TZOFFSETTO:-0700
TZNAME:PDT
DTSTART:20240310T100000
END:DAYLIGHT
BEGIN:STANDARD
TZOFFSETFROM:-0700
TZOFFSETTO:-0800
TZNAME:PST
DTSTART:20241103T090000
END:STANDARD
BEGIN:DAYLIGHT
TZOFFSETFROM:-0800
TZOFFSETTO:-0700
TZNAME:PDT
DTSTART:20250309T100000
END:DAYLIGHT
BEGIN:STANDARD
TZOFFSETFROM:-0700
TZOFFSETTO:-0800
TZNAME:PST
DTSTART:20251102T090000
END:STANDARD
END:VTIMEZONE
BEGIN:VEVENT
DTSTART;TZID=America/Vancouver:20241129T173000
DTEND;TZID=America/Vancouver:20241129T190000
DTSTAMP:20260421T010432
CREATED:20240829T211340Z
LAST-MODIFIED:20240829T211613Z
UID:4469-1732901400-1732906800@anndavis.org
SUMMARY:Building Healthy Relationships (Virtual)
DESCRIPTION:A gift incentive will be provided at the end
URL:https://anndavis.org/event/building-healthy-relationships-virtual/2024-11-29/
CATEGORIES:Events
END:VEVENT
BEGIN:VEVENT
DTSTART;TZID=America/Vancouver:20241122T173000
DTEND;TZID=America/Vancouver:20241122T190000
DTSTAMP:20260421T010432
CREATED:20240829T211340Z
LAST-MODIFIED:20240829T211613Z
UID:4468-1732296600-1732302000@anndavis.org
SUMMARY:Building Healthy Relationships (Virtual)
DESCRIPTION:A gift incentive will be provided at the end
URL:https://anndavis.org/event/building-healthy-relationships-virtual/2024-11-22/
CATEGORIES:Events
END:VEVENT
BEGIN:VEVENT
DTSTART;TZID=America/Vancouver:20241115T173000
DTEND;TZID=America/Vancouver:20241115T190000
DTSTAMP:20260421T010432
CREATED:20240829T211340Z
LAST-MODIFIED:20240829T211613Z
UID:4467-1731691800-1731697200@anndavis.org
SUMMARY:Building Healthy Relationships (Virtual)
DESCRIPTION:A gift incentive will be provided at the end
URL:https://anndavis.org/event/building-healthy-relationships-virtual/2024-11-15/
CATEGORIES:Events
END:VEVENT
BEGIN:VEVENT
DTSTART;TZID=America/Vancouver:20241108T173000
DTEND;TZID=America/Vancouver:20241108T190000
DTSTAMP:20260421T010432
CREATED:20240829T211340Z
LAST-MODIFIED:20240829T211613Z
UID:4466-1731087000-1731092400@anndavis.org
SUMMARY:Building Healthy Relationships (Virtual)
DESCRIPTION:A gift incentive will be provided at the end
URL:https://anndavis.org/event/building-healthy-relationships-virtual/2024-11-08/
CATEGORIES:Events
END:VEVENT
BEGIN:VEVENT
DTSTART;TZID=America/Vancouver:20241101T173000
DTEND;TZID=America/Vancouver:20241101T190000
DTSTAMP:20260421T010432
CREATED:20240829T211340Z
LAST-MODIFIED:20240829T211612Z
UID:4465-1730482200-1730487600@anndavis.org
SUMMARY:Building Healthy Relationships (Virtual)
DESCRIPTION:A gift incentive will be provided at the end
URL:https://anndavis.org/event/building-healthy-relationships-virtual/2024-11-01/
CATEGORIES:Events
END:VEVENT
BEGIN:VEVENT
DTSTART;TZID=America/Vancouver:20241025T173000
DTEND;TZID=America/Vancouver:20241025T190000
DTSTAMP:20260421T010432
CREATED:20240829T211340Z
LAST-MODIFIED:20240829T211612Z
UID:4464-1729877400-1729882800@anndavis.org
SUMMARY:Building Healthy Relationships (Virtual)
DESCRIPTION:A gift incentive will be provided at the end
URL:https://anndavis.org/event/building-healthy-relationships-virtual/2024-10-25/
CATEGORIES:Events
END:VEVENT
BEGIN:VEVENT
DTSTART;TZID=America/Vancouver:20241018T173000
DTEND;TZID=America/Vancouver:20241018T190000
DTSTAMP:20260421T010432
CREATED:20240829T211340Z
LAST-MODIFIED:20240829T211612Z
UID:4463-1729272600-1729278000@anndavis.org
SUMMARY:Building Healthy Relationships (Virtual)
DESCRIPTION:A gift incentive will be provided at the end
URL:https://anndavis.org/event/building-healthy-relationships-virtual/2024-10-18/
CATEGORIES:Events
END:VEVENT
BEGIN:VEVENT
DTSTART;TZID=America/Vancouver:20241011T173000
DTEND;TZID=America/Vancouver:20241011T190000
DTSTAMP:20260421T010432
CREATED:20240829T211340Z
LAST-MODIFIED:20240829T211612Z
UID:4462-1728667800-1728673200@anndavis.org
SUMMARY:Building Healthy Relationships (Virtual)
DESCRIPTION:A gift incentive will be provided at the end
URL:https://anndavis.org/event/building-healthy-relationships-virtual/2024-10-11/
CATEGORIES:Events
END:VEVENT
BEGIN:VEVENT
DTSTART;TZID=America/Vancouver:20241004T173000
DTEND;TZID=America/Vancouver:20241004T190000
DTSTAMP:20260421T010432
CREATED:20240829T211340Z
LAST-MODIFIED:20240829T211612Z
UID:4461-1728063000-1728068400@anndavis.org
SUMMARY:Building Healthy Relationships (Virtual)
DESCRIPTION:A gift incentive will be provided at the end
URL:https://anndavis.org/event/building-healthy-relationships-virtual/2024-10-04/
CATEGORIES:Events
END:VEVENT
END:VCALENDAR